BEGIN:VCALENDAR
VERSION:2.0
PRODID:-//Lakeside Village - ECPv6.15.20//NONSGML v1.0//EN
CALSCALE:GREGORIAN
METHOD:PUBLISH
X-WR-CALNAME:Lakeside Village
X-ORIGINAL-URL:https://dev.lakeside-village.co.uk
X-WR-CALDESC:Events for Lakeside Village
REFRESH-INTERVAL;VALUE=DURATION:PT1H
X-Robots-Tag:noindex
X-PUBLISHED-TTL:PT1H
BEGIN:VTIMEZONE
TZID:Europe/London
BEGIN:DAYLIGHT
TZOFFSETFROM:+0000
TZOFFSETTO:+0100
TZNAME:BST
DTSTART:20210328T010000
END:DAYLIGHT
BEGIN:STANDARD
TZOFFSETFROM:+0100
TZOFFSETTO:+0000
TZNAME:GMT
DTSTART:20211031T010000
END:STANDARD
BEGIN:DAYLIGHT
TZOFFSETFROM:+0000
TZOFFSETTO:+0100
TZNAME:BST
DTSTART:20220327T010000
END:DAYLIGHT
BEGIN:STANDARD
TZOFFSETFROM:+0100
TZOFFSETTO:+0000
TZNAME:GMT
DTSTART:20221030T010000
END:STANDARD
BEGIN:DAYLIGHT
TZOFFSETFROM:+0000
TZOFFSETTO:+0100
TZNAME:BST
DTSTART:20230326T010000
END:DAYLIGHT
BEGIN:STANDARD
TZOFFSETFROM:+0100
TZOFFSETTO:+0000
TZNAME:GMT
DTSTART:20231029T010000
END:STANDARD
BEGIN:DAYLIGHT
TZOFFSETFROM:+0000
TZOFFSETTO:+0100
TZNAME:BST
DTSTART:20240331T010000
END:DAYLIGHT
BEGIN:STANDARD
TZOFFSETFROM:+0100
TZOFFSETTO:+0000
TZNAME:GMT
DTSTART:20241027T010000
END:STANDARD
END:VTIMEZONE
BEGIN:VEVENT
DTSTART;TZID=Europe/London:20231216T100000
DTEND;TZID=Europe/London:20231216T170000
DTSTAMP:20260426T022348
CREATED:20230202T154126Z
LAST-MODIFIED:20230202T154439Z
UID:10000930-1702720800-1702746000@dev.lakeside-village.co.uk
SUMMARY:Festive Artisan & Craft Fayre
DESCRIPTION:A festive showcase of quirky gifts your friends & loved ones will cherish.
URL:https://dev.lakeside-village.co.uk/event/festive-artisan-craft-fayre-2/2023-12-16/
LOCATION:Lakeside Village\, White Rose Way\, Doncaster\, England\, DN4 5PJ\, United Kingdom
CATEGORIES:Christmas
ATTACH;FMTTYPE=image/png:https://dev.lakeside-village.co.uk/wp-content/uploads/2022/04/LV_ArtisanCraftFayre_23_News.png
GEO:53.5078946;-1.1153419
X-APPLE-STRUCTURED-LOCATION;VALUE=URI;X-ADDRESS=Lakeside Village White Rose Way Doncaster England DN4 5PJ United Kingdom;X-APPLE-RADIUS=500;X-TITLE=White Rose Way:geo:-1.1153419,53.5078946
END:VEVENT
BEGIN:VEVENT
DTSTART;TZID=Europe/London:20231209T100000
DTEND;TZID=Europe/London:20231209T170000
DTSTAMP:20260426T022348
CREATED:20230202T154126Z
LAST-MODIFIED:20230202T154439Z
UID:10000929-1702116000-1702141200@dev.lakeside-village.co.uk
SUMMARY:Festive Artisan & Craft Fayre
DESCRIPTION:A festive showcase of quirky gifts your friends & loved ones will cherish.
URL:https://dev.lakeside-village.co.uk/event/festive-artisan-craft-fayre-2/2023-12-09/
LOCATION:Lakeside Village\, White Rose Way\, Doncaster\, England\, DN4 5PJ\, United Kingdom
CATEGORIES:Christmas
ATTACH;FMTTYPE=image/png:https://dev.lakeside-village.co.uk/wp-content/uploads/2022/04/LV_ArtisanCraftFayre_23_News.png
GEO:53.5078946;-1.1153419
X-APPLE-STRUCTURED-LOCATION;VALUE=URI;X-ADDRESS=Lakeside Village White Rose Way Doncaster England DN4 5PJ United Kingdom;X-APPLE-RADIUS=500;X-TITLE=White Rose Way:geo:-1.1153419,53.5078946
END:VEVENT
BEGIN:VEVENT
DTSTART;TZID=Europe/London:20231202T100000
DTEND;TZID=Europe/London:20231202T160000
DTSTAMP:20260426T022348
CREATED:20230202T151822Z
LAST-MODIFIED:20230202T152049Z
UID:10000506-1701511200-1701532800@dev.lakeside-village.co.uk
SUMMARY:Festive Artisan & Craft Fayre
DESCRIPTION:A festive showcase of quirky gifts your friends & loved ones will cherish.
URL:https://dev.lakeside-village.co.uk/event/festive-artisan-craft-fayre/
LOCATION:Lakeside Village\, White Rose Way\, Doncaster\, England\, DN4 5PJ\, United Kingdom
CATEGORIES:Christmas
ATTACH;FMTTYPE=image/png:https://dev.lakeside-village.co.uk/wp-content/uploads/2022/04/LV_ArtisanCraftFayre_23_News.png
GEO:53.5078946;-1.1153419
X-APPLE-STRUCTURED-LOCATION;VALUE=URI;X-ADDRESS=Lakeside Village White Rose Way Doncaster England DN4 5PJ United Kingdom;X-APPLE-RADIUS=500;X-TITLE=White Rose Way:geo:-1.1153419,53.5078946
END:VEVENT
BEGIN:VEVENT
DTSTART;TZID=Europe/London:20221203T100000
DTEND;TZID=Europe/London:20221203T170000
DTSTAMP:20260426T022348
CREATED:20221116T162534Z
LAST-MODIFIED:20221116T163039Z
UID:10000166-1670061600-1670086800@dev.lakeside-village.co.uk
SUMMARY:Festive Artisan & Craft Fayre
DESCRIPTION:A festive showcase of quirky gifts your friends & loved ones will cherish. \n\n\n\nAlongside our Festive Artisan & Craft Fayre will be a jolly visit from Santa\, a great opportunity for photos & sharing your dream wish list (have you been naughty or nice this Christmas?) -11.00 AM – 4.00 PM  \n\n\n\n(we kindly ask for a £2 donation to Doncaster Mind if you are visiting Santa in his chalet. There will be a FREE gift for all visiting children.) \n\n\n\nIf singing is your passion come & watch Tickhill & District Male Voice Choir sing their hearts out – 11.00 AM -12.30 PM \n\n\n\nFor a traditional merry throwback come & visit the The La Di Dahs dance all day long – 11.30 AM \, 12.30 PM\, 1.30 PM \n\n\n\nLV Artisan Christmas Event
URL:https://dev.lakeside-village.co.uk/event/artisan-craft-fayre-9/2022-12-03/
LOCATION:Lakeside Village\, White Rose Way\, Doncaster\, England\, DN4 5PJ\, United Kingdom
CATEGORIES:Christmas
ATTACH;FMTTYPE=image/jpeg:https://dev.lakeside-village.co.uk/wp-content/uploads/2022/04/LV-ArtisanChristmas-Web-event.jpg
GEO:53.5078946;-1.1153419
X-APPLE-STRUCTURED-LOCATION;VALUE=URI;X-ADDRESS=Lakeside Village White Rose Way Doncaster England DN4 5PJ United Kingdom;X-APPLE-RADIUS=500;X-TITLE=White Rose Way:geo:-1.1153419,53.5078946
END:VEVENT
BEGIN:VEVENT
DTSTART;TZID=Europe/London:20221029T090000
DTEND;TZID=Europe/London:20221029T180000
DTSTAMP:20260426T022348
CREATED:20221025T084603Z
LAST-MODIFIED:20221031T125625Z
UID:10000186-1667034000-1667066400@dev.lakeside-village.co.uk
SUMMARY:Halloween Spooktacular
DESCRIPTION:LV Halloween Web event\n\n\n\nWhat are you doing this Halloween? Why not head down to Lakeside Village for a spooky day out? Fun for all the family.  \n\n\n\nMeet Mr & Mrs Pumpkin for photo opportunities.Take fun photos in the pumpkin patch. Bring out your inner designer whilst crafting your very own Halloween mask. Make up some magically delicious potions & biscuits.& get involved with our scary spiders competition (for more information please click here)
URL:https://dev.lakeside-village.co.uk/event/halloween-spooktacular/
LOCATION:Lakeside Village\, White Rose Way\, Doncaster\, England\, DN4 5PJ\, United Kingdom
ATTACH;FMTTYPE=image/jpeg:https://dev.lakeside-village.co.uk/wp-content/uploads/2022/10/LV-Halloween_Web-event.jpg
GEO:53.5078946;-1.1153419
X-APPLE-STRUCTURED-LOCATION;VALUE=URI;X-ADDRESS=Lakeside Village White Rose Way Doncaster England DN4 5PJ United Kingdom;X-APPLE-RADIUS=500;X-TITLE=White Rose Way:geo:-1.1153419,53.5078946
END:VEVENT
BEGIN:VEVENT
DTSTART;TZID=Europe/London:20221022T100000
DTEND;TZID=Europe/London:20221022T160000
DTSTAMP:20260426T022348
CREATED:20221021T123404Z
LAST-MODIFIED:20221021T123405Z
UID:10000185-1666432800-1666454400@dev.lakeside-village.co.uk
SUMMARY:Sing to your hearts desire with Blu Crew choir
DESCRIPTION:Sing to your hearts desire\, shop festive merchandise\, take a lucky chance in the raffle or take some pictures with their adorable mascot ‘George the Dog’ – all for a positive cause.  \n\n\n\nBlue Bell Wood volunteers will be arriving at the centre from 10am until 4pm. \n\n\n\n& the choir will be singing from 11am until 11.45 & 1pm until 1.45pm.
URL:https://dev.lakeside-village.co.uk/event/sing-to-your-hearts-desire-with-blu-crew-choir/
LOCATION:Lakeside Village\, White Rose Way\, Doncaster\, England\, DN4 5PJ\, United Kingdom
CATEGORIES:General
ATTACH;FMTTYPE=image/jpeg:https://dev.lakeside-village.co.uk/wp-content/uploads/2022/10/bluebell-wood-choir.jpg
GEO:53.5078946;-1.1153419
X-APPLE-STRUCTURED-LOCATION;VALUE=URI;X-ADDRESS=Lakeside Village White Rose Way Doncaster England DN4 5PJ United Kingdom;X-APPLE-RADIUS=500;X-TITLE=White Rose Way:geo:-1.1153419,53.5078946
END:VEVENT
BEGIN:VEVENT
DTSTART;TZID=Europe/London:20221018T090000
DTEND;TZID=Europe/London:20221018T170000
DTSTAMP:20260426T022348
CREATED:20221017T085854Z
LAST-MODIFIED:20221017T090518Z
UID:10000183-1666083600-1666112400@dev.lakeside-village.co.uk
SUMMARY:Christmas Launch Party @The Body Shop
DESCRIPTION:Join The Body Shop– in-store on Tuesday 18th October for our Christmas seasonal ranges launch Party.   not only will we be showcasing our new seasonal scents\, but customers who shop with us on this day will receive an EXCLUSIVE treat. \nT&C’s apply
URL:https://dev.lakeside-village.co.uk/event/christmas-launch-party-the-body-shop/
LOCATION:Lakeside Village\, White Rose Way\, Doncaster\, England\, DN4 5PJ\, United Kingdom
CATEGORIES:General
ATTACH;FMTTYPE=image/jpeg:https://dev.lakeside-village.co.uk/wp-content/uploads/2022/10/xmas-party.jpg
ORGANIZER;CN="Lakeside Village":MAILTO:lparry@realm.ltd.uk
GEO:53.5078946;-1.1153419
X-APPLE-STRUCTURED-LOCATION;VALUE=URI;X-ADDRESS=Lakeside Village White Rose Way Doncaster England DN4 5PJ United Kingdom;X-APPLE-RADIUS=500;X-TITLE=White Rose Way:geo:-1.1153419,53.5078946
END:VEVENT
BEGIN:VEVENT
DTSTART;TZID=Europe/London:20221017T080000
DTEND;TZID=Europe/London:20221029T180000
DTSTAMP:20260426T022348
CREATED:20221017T084026Z
LAST-MODIFIED:20221024T154111Z
UID:10000182-1665993600-1667066400@dev.lakeside-village.co.uk
SUMMARY:Spot The Spooky Spiders: Halloween Event
DESCRIPTION:How many spooky spiders will you find? Unleash your inner detective for a chance to win a scarily delicious cinema goodie bag from @The Sweet Emporium & a Savoy Cinema family ticket for your choice of film. For more information about how to enter\, please visit The Sweet Emporium.
URL:https://dev.lakeside-village.co.uk/event/spot-the-spooky-spiders-halloween-event/
LOCATION:Lakeside Village\, White Rose Way\, Doncaster\, England\, DN4 5PJ\, United Kingdom
CATEGORIES:General
ATTACH;FMTTYPE=image/jpeg:https://dev.lakeside-village.co.uk/wp-content/uploads/2022/10/LV-Halloween_Spiders-Competition_WebEvent700x700.jpg
ORGANIZER;CN="Lakeside Village":MAILTO:lparry@realm.ltd.uk
GEO:53.5078946;-1.1153419
X-APPLE-STRUCTURED-LOCATION;VALUE=URI;X-ADDRESS=Lakeside Village White Rose Way Doncaster England DN4 5PJ United Kingdom;X-APPLE-RADIUS=500;X-TITLE=White Rose Way:geo:-1.1153419,53.5078946
END:VEVENT
END:VCALENDAR