BEGIN:VCALENDAR
VERSION:2.0
PRODID:-//Lakeside Village - ECPv6.15.20//NONSGML v1.0//EN
CALSCALE:GREGORIAN
METHOD:PUBLISH
X-WR-CALNAME:Lakeside Village
X-ORIGINAL-URL:https://dev.lakeside-village.co.uk
X-WR-CALDESC:Events for Lakeside Village
REFRESH-INTERVAL;VALUE=DURATION:PT1H
X-Robots-Tag:noindex
X-PUBLISHED-TTL:PT1H
BEGIN:VTIMEZONE
TZID:Europe/London
BEGIN:DAYLIGHT
TZOFFSETFROM:+0000
TZOFFSETTO:+0100
TZNAME:BST
DTSTART:20210328T010000
END:DAYLIGHT
BEGIN:STANDARD
TZOFFSETFROM:+0100
TZOFFSETTO:+0000
TZNAME:GMT
DTSTART:20211031T010000
END:STANDARD
BEGIN:DAYLIGHT
TZOFFSETFROM:+0000
TZOFFSETTO:+0100
TZNAME:BST
DTSTART:20220327T010000
END:DAYLIGHT
BEGIN:STANDARD
TZOFFSETFROM:+0100
TZOFFSETTO:+0000
TZNAME:GMT
DTSTART:20221030T010000
END:STANDARD
BEGIN:DAYLIGHT
TZOFFSETFROM:+0000
TZOFFSETTO:+0100
TZNAME:BST
DTSTART:20230326T010000
END:DAYLIGHT
BEGIN:STANDARD
TZOFFSETFROM:+0100
TZOFFSETTO:+0000
TZNAME:GMT
DTSTART:20231029T010000
END:STANDARD
END:VTIMEZONE
BEGIN:VEVENT
DTSTART;TZID=Europe/London:20220930T093000
DTEND;TZID=Europe/London:20220930T111500
DTSTAMP:20260425T002653
CREATED:20220923T123251Z
LAST-MODIFIED:20220923T123323Z
UID:10000181-1664530200-1664536500@dev.lakeside-village.co.uk
SUMMARY:Etto's Macmillan Coffee Morning
DESCRIPTION:Join us for Etto’s Macmillan Coffee Morning on the 30th of September – 9:30-11:15 – for a morning full of cakes\, hot drinks & support for those living with cancer. \n\n\n\nMacmillan coffee morning Etto event
URL:https://dev.lakeside-village.co.uk/event/ettos-macmillan-coffee-morning/
LOCATION:Etto\, Lakeside Village 01302 366 444  https://www.lakeside-village.co.uk/  lparry@realm.ltd.uk
CATEGORIES:General
ATTACH;FMTTYPE=image/jpeg:https://dev.lakeside-village.co.uk/wp-content/uploads/2022/09/macmillan-coffee-morning-event-graphic.jpg
END:VEVENT
END:VCALENDAR