BEGIN:VCALENDAR
VERSION:2.0
PRODID:-//Lakeside Village - ECPv6.15.20//NONSGML v1.0//EN
CALSCALE:GREGORIAN
METHOD:PUBLISH
X-WR-CALNAME:Lakeside Village
X-ORIGINAL-URL:https://dev.lakeside-village.co.uk
X-WR-CALDESC:Events for Lakeside Village
REFRESH-INTERVAL;VALUE=DURATION:PT1H
X-Robots-Tag:noindex
X-PUBLISHED-TTL:PT1H
BEGIN:VTIMEZONE
TZID:Europe/London
BEGIN:DAYLIGHT
TZOFFSETFROM:+0000
TZOFFSETTO:+0100
TZNAME:BST
DTSTART:20220327T010000
END:DAYLIGHT
BEGIN:STANDARD
TZOFFSETFROM:+0100
TZOFFSETTO:+0000
TZNAME:GMT
DTSTART:20221030T010000
END:STANDARD
BEGIN:DAYLIGHT
TZOFFSETFROM:+0000
TZOFFSETTO:+0100
TZNAME:BST
DTSTART:20230326T010000
END:DAYLIGHT
BEGIN:STANDARD
TZOFFSETFROM:+0100
TZOFFSETTO:+0000
TZNAME:GMT
DTSTART:20231029T010000
END:STANDARD
BEGIN:DAYLIGHT
TZOFFSETFROM:+0000
TZOFFSETTO:+0100
TZNAME:BST
DTSTART:20240331T010000
END:DAYLIGHT
BEGIN:STANDARD
TZOFFSETFROM:+0100
TZOFFSETTO:+0000
TZNAME:GMT
DTSTART:20241027T010000
END:STANDARD
END:VTIMEZONE
BEGIN:VEVENT
DTSTART;TZID=Europe/London:20230320T093000
DTEND;TZID=Europe/London:20230320T180000
DTSTAMP:20260424T234859
CREATED:20230213T143328Z
LAST-MODIFIED:20230213T143331Z
UID:10000931-1679304600-1679335200@dev.lakeside-village.co.uk
SUMMARY:Exclusive one-day Le Vian event @ Ernest Jones
DESCRIPTION:We’re hosting an exclusive one-day Le Vian event in our Ernest Jones Doncaster Outlet store on 20th March 2023. Set to showcase hundreds of rare and sought-after pieces that pay tribute to its rich Persian heritage\, the one-day event will immerse customers in an array of dazzling jewels\, that they can try and buy before anyone else – including this season’s showstopper Le Vian’s Peach Morganite™\, thought to bring peace\, joy and inner strength\, Sea Blue Aquamarine™\, representing powerful transformation and rebirth and Blueberry Sapphire™ – one the most prized precious gemstones\, it’s known for its rarity\, mesmerising colour and mysticism (it’s said to have special healing powers). Showstoppers for a reason\, these one-of-a-kind\, limited-edition pieces can only be viewed and purchased at special show prices on the event day. ​ \n\n\n\n  ​When customers attend their appointment on event day\, there’ll be Le Vian experts on hand so they can learn more about the family-run business that brought us Chocolate Diamonds® . Plus\, they’ll be able to enter a prize draw to win a pair of Le Vian® earrings featuring Neopolitan Opal™\, Chocolate Diamonds® & Vanilla Diamonds™ set in 14ct Strawberry Gold™​\, worth £999. \n\n\n\n​Customers can book an exclusive appointment here: ernestjones.co.uk/le-vian-events ​
URL:https://dev.lakeside-village.co.uk/event/exclusive-one-day-le-vian-event-ernest-jones/
LOCATION:Lakeside Village\, White Rose Way\, Doncaster\, England\, DN4 5PJ\, United Kingdom
CATEGORIES:Brand Event
ATTACH;FMTTYPE=image/jpeg:https://dev.lakeside-village.co.uk/wp-content/uploads/2023/02/1080x1080_EJ_Le_Vian_Shopping_Centre_Assets_SS23.jpg-1.jpg
GEO:53.5078946;-1.1153419
X-APPLE-STRUCTURED-LOCATION;VALUE=URI;X-ADDRESS=Lakeside Village White Rose Way Doncaster England DN4 5PJ United Kingdom;X-APPLE-RADIUS=500;X-TITLE=White Rose Way:geo:-1.1153419,53.5078946
END:VEVENT
END:VCALENDAR